BEGIN:VCALENDAR
VERSION:2.0
PRODID:-//Grow Calgary - ECPv6.15.20//NONSGML v1.0//EN
CALSCALE:GREGORIAN
METHOD:PUBLISH
X-ORIGINAL-URL:https://growcalgary.ca
X-WR-CALDESC:Events for Grow Calgary
REFRESH-INTERVAL;VALUE=DURATION:PT1H
X-Robots-Tag:noindex
X-PUBLISHED-TTL:PT1H
BEGIN:VTIMEZONE
TZID:America/Edmonton
BEGIN:DAYLIGHT
TZOFFSETFROM:-0700
TZOFFSETTO:-0600
TZNAME:MDT
DTSTART:20220313T090000
END:DAYLIGHT
BEGIN:STANDARD
TZOFFSETFROM:-0600
TZOFFSETTO:-0700
TZNAME:MST
DTSTART:20221106T080000
END:STANDARD
BEGIN:DAYLIGHT
TZOFFSETFROM:-0700
TZOFFSETTO:-0600
TZNAME:MDT
DTSTART:20230312T090000
END:DAYLIGHT
BEGIN:STANDARD
TZOFFSETFROM:-0600
TZOFFSETTO:-0700
TZNAME:MST
DTSTART:20231105T080000
END:STANDARD
BEGIN:DAYLIGHT
TZOFFSETFROM:-0700
TZOFFSETTO:-0600
TZNAME:MDT
DTSTART:20240310T090000
END:DAYLIGHT
BEGIN:STANDARD
TZOFFSETFROM:-0600
TZOFFSETTO:-0700
TZNAME:MST
DTSTART:20241103T080000
END:STANDARD
BEGIN:DAYLIGHT
TZOFFSETFROM:-0700
TZOFFSETTO:-0600
TZNAME:MDT
DTSTART:20250309T090000
END:DAYLIGHT
BEGIN:STANDARD
TZOFFSETFROM:-0600
TZOFFSETTO:-0700
TZNAME:MST
DTSTART:20251102T080000
END:STANDARD
END:VTIMEZONE
BEGIN:VEVENT
DTSTART;TZID=America/Edmonton:20240323T100000
DTEND;TZID=America/Edmonton:20240323T150000
DTSTAMP:20260422T100615
CREATED:20240205T000146Z
LAST-MODIFIED:20240205T000233Z
UID:2948-1711188000-1711206000@growcalgary.ca
SUMMARY:Seedy Saturday
DESCRIPTION:Welcome the Spring season with us at Seedy Saturday! Visit the many seed and gardening vendors and get ready for the 2024 growing season. Entry is free and there will be a food vendor on site.
URL:https://growcalgary.ca/event/seedy-saturday/
LOCATION:Bowness Community Association\, 7904 43 Ave NW\, Calgary\, Alberta\, T3B4P9\, Canada
END:VEVENT
BEGIN:VEVENT
DTSTART;TZID=America/Edmonton:20240210T143000
DTEND;TZID=America/Edmonton:20240210T163000
DTSTAMP:20260422T100615
CREATED:20240204T235100Z
LAST-MODIFIED:20240205T000333Z
UID:2944-1707575400-1707582600@growcalgary.ca
SUMMARY:Trash 2 Treasure\, A Sustainable Development Story. Presented by The Aquativity Project.
DESCRIPTION:Join us at cSPACE Marda Loop for a free sustainability event with The Aquativity project featuring a book reading\, stylish fashion show\, a film\, and networking. We will have a table set up between 2:30pm and 4:30pm. Check out all the event features and come say hi. Free tickets available here
URL:https://growcalgary.ca/event/trash-2-treasure-a-sustainable-development-story-presented-by-the-aquativity-project/
LOCATION:cSPACE Marda Loop\, 1721 29 Ave SW\, Calgary\, Alberta\, T3C3K3\, Canada
END:VEVENT
BEGIN:VEVENT
DTSTART;TZID=America/Edmonton:20230820T120000
DTEND;TZID=America/Edmonton:20230820T160000
DTSTAMP:20260422T100615
CREATED:20230728T065409Z
LAST-MODIFIED:20230728T065535Z
UID:2906-1692532800-1692547200@growcalgary.ca
SUMMARY:10 Year Anniversary and End of Season Celebration
DESCRIPTION:Come to our 10 Year Anniversary & End of Season Celebration to commemorate 10 years of Grow Calgary\, and 11 seasons of growing food for those in need. The event will feature a yoga class\, planting herbs to take home\, crafts\, raffle prizes\, and of course food from various food trucks. All ages/family friendly. Entry by donation. Come celebrate all that we have accomplished together over the last 10 years! Register here
URL:https://growcalgary.ca/event/10-year-anniversary-and-end-of-season-celebration/
LOCATION:Alberta
ATTACH;FMTTYPE=image/png:https://growcalgary.ca/wp-content/uploads/2023/07/10-Year-Anniversary-Event-IG-Post.png
ORGANIZER;CN="Grow Calgary":MAILTO:volunteers@growcalgary.ca
END:VEVENT
BEGIN:VEVENT
DTSTART;TZID=America/Edmonton:20230722T100000
DTEND;TZID=America/Edmonton:20230723T150000
DTSTAMP:20260422T100615
CREATED:20230622T050036Z
LAST-MODIFIED:20230622T050449Z
UID:2869-1690020000-1690124400@growcalgary.ca
SUMMARY:Yard Sale July 22 and July 23 2023
DESCRIPTION:We are moving\, help us declutter and take home some treasures! Items for sale include pots\, trays\, gardening and farming supplies\, water tanks and barrels\, windows and building supplies\, micro-homes and much more. We are looking for new land space for the farm to continue growing food for the community and providing education on small scale farm management\, local food production\, and food insecurity. Please get in touch if you can help: volunteers@growcalgary.ca
URL:https://growcalgary.ca/event/yard-sale-july-22-and-july-23-2023/
LOCATION:Alberta
ATTACH;FMTTYPE=image/png:https://growcalgary.ca/wp-content/uploads/2023/06/2023-Yard-Sale-.png
ORGANIZER;CN="Grow Calgary":MAILTO:volunteers@growcalgary.ca
END:VEVENT
END:VCALENDAR